BEGIN:VCALENDAR
VERSION:2.0
PRODID:-//Clearview Vineyard - ECPv4.6.14.1//NONSGML v1.0//EN
CALSCALE:GREGORIAN
METHOD:PUBLISH
X-WR-CALNAME:Clearview Vineyard
X-ORIGINAL-URL:https://clearviewvineyard.com
X-WR-CALDESC:Events for Clearview Vineyard
BEGIN:VEVENT
DTSTART;TZID=America/New_York:20171210T100000
DTEND;TZID=America/New_York:20171210T170000
DTSTAMP:20260425T220025
CREATED:20170215T145925Z
LAST-MODIFIED:20170215T145925Z
UID:31473-1512900000-1512925200@clearviewvineyard.com
SUMMARY:Wreath Fineries at the Wineries
DESCRIPTION:\n\n\n\nSelf-guided wine tasting tour along the Shawangunk Wine Trail. \nAdvance tickets only; tickets will not be sold at the door. All 15 member wineries will be decorated and awaiting your visit. \n\nWeekend Ticket\, starting at Clearview Vineyard\, click here. \nSunday only tickets\, starting at Clearview Vineyards\, click here. \n\nJump into the holiday spirit and do your holiday shopping with Wreath Fineries at the Wineries\, the Shawangunk Wine Trail’s memorable holiday event! \nYou pick the weekend or Sunday date. You pick a winery for your starting point. The event begins when you check-in at your starting winery where you’ll receive a souvenir wine glass\, a grapevine wreath\, and a Shawangunk Wine Trail ornament. Then you’ll travel along the Wine Trail\, receiving a wine tasting and a beautiful ornament to decorate your wreath from each winery you visit. \nPlease Note: We offer weekend and Sunday tickets only. There are no Saturday only tickets available. You may attend the event only on the specific weekend or Sunday that you have chosen. The Shawagunk Wine Trail recommends you use the entire weekend to enjoy the trail. Thank you! \nImportant Information:\nYou must bring your Eventbrite receipt email and a valid photo id to check-in at your starting winery\, receive your tasting glass and wreath\, and begin your tour. Please note that each winery may be visited once. The number of people allowed at each winery to start the event is limited. Purchase tickets early to be assured of getting your preferred starting winery. Groups of attendees should purchase tickets all in one order to assure that everyone gets the same starting winery. \nOur Partners: Dine\, Stay\, Relax & Travel Safely\nDine! Hungry?Click here for restaurants located along the Trail.\nStay! Enjoy your weekend in Hudson Valley! Click here for accommodations located along the Trail \nRelax! Visit special attractions located along the Trail.Click here for fun places to visit!\nTravel Safely! Click here for a variety of transportation options. \nOUR POLICIES \nNo Exchanges\, No Refunds\nTickets cannot be refunded or exchanged for any reason. \nWeather Policy:\nThis event is never canceled and all wineries will be open regardless of weather. \nBus Policy:\nNo buses larger than 10 passengers will be accepted. \nGroup Policy:\nThe Shawangunk Wine Trail will accept groups up to 10 for Shawangunk Wine Trail events. Groups larger than 10 will NOT be accepted. \nDrink Responsibly:\nIt is illegal to bring outside alcoholic beverages onto our properties. Any visitor who is intoxicated or disorderly or who has brought an outside alcoholic beverage onto our properties will not be served\, should not expect a refund\, and may be asked to leave. \n\n\n\n\n
URL:https://clearviewvineyard.com/event/wreath-fineries-wineries-12/
LOCATION:35 Clearview Lane\, Warwick\, NY\, 10990\, United States
CATEGORIES:Wine Trail Events Calendar
END:VEVENT
END:VCALENDAR