BEGIN:VCALENDAR
VERSION:2.0
PRODID:-//Clearview Vineyard - ECPv4.6.14.1//NONSGML v1.0//EN
CALSCALE:GREGORIAN
METHOD:PUBLISH
X-WR-CALNAME:Clearview Vineyard
X-ORIGINAL-URL:https://clearviewvineyard.com
X-WR-CALDESC:Events for Clearview Vineyard
BEGIN:VEVENT
DTSTART;TZID=America/New_York:20201025T140000
DTEND;TZID=America/New_York:20201025T170000
DTSTAMP:20260423T100814
CREATED:20200916T103147Z
LAST-MODIFIED:20200916T103405Z
UID:32531-1603634400-1603645200@clearviewvineyard.com
SUMMARY:Temple Dudes
DESCRIPTION:Temple Dudes play pop\, classic rock and blues. \n \n
URL:https://clearviewvineyard.com/event/temple-dudes-5/
CATEGORIES:Music at Clearview
END:VEVENT
END:VCALENDAR