BEGIN:VCALENDAR
VERSION:2.0
PRODID:-//Clearview Vineyard - ECPv4.6.14.1//NONSGML v1.0//EN
CALSCALE:GREGORIAN
METHOD:PUBLISH
X-WR-CALNAME:Clearview Vineyard
X-ORIGINAL-URL:https://clearviewvineyard.com
X-WR-CALDESC:Events for Clearview Vineyard
BEGIN:VEVENT
DTSTART;TZID=America/New_York:20201024T140000
DTEND;TZID=America/New_York:20201024T170000
DTSTAMP:20260423T112022
CREATED:20200916T102947Z
LAST-MODIFIED:20200916T103553Z
UID:32529-1603548000-1603558800@clearviewvineyard.com
SUMMARY:Strings Attached
DESCRIPTION:Strings Attached plays classic rock\, blues and pop. \n \n
URL:https://clearviewvineyard.com/event/strings-attached-4/
CATEGORIES:Music at Clearview
END:VEVENT
END:VCALENDAR