BEGIN:VCALENDAR
VERSION:2.0
PRODID:-//Clearview Vineyard - ECPv4.6.14.1//NONSGML v1.0//EN
CALSCALE:GREGORIAN
METHOD:PUBLISH
X-WR-CALNAME:Clearview Vineyard
X-ORIGINAL-URL:https://clearviewvineyard.com
X-WR-CALDESC:Events for Clearview Vineyard
BEGIN:VEVENT
DTSTART;TZID=America/New_York:20200816T120000
DTEND;TZID=America/New_York:20200816T170000
DTSTAMP:20260424T112237
CREATED:20200720T102842Z
LAST-MODIFIED:20200720T102842Z
UID:32480-1597579200-1597597200@clearviewvineyard.com
SUMMARY:Strings Attached
DESCRIPTION:Strings Attached plays pop\, blues and classic rock. \n \n
URL:https://clearviewvineyard.com/event/strings-attached-3/
CATEGORIES:Music at Clearview
END:VEVENT
END:VCALENDAR