BEGIN:VCALENDAR
VERSION:2.0
PRODID:-//Clearview Vineyard - ECPv4.6.14.1//NONSGML v1.0//EN
CALSCALE:GREGORIAN
METHOD:PUBLISH
X-WR-CALNAME:Clearview Vineyard
X-ORIGINAL-URL:https://clearviewvineyard.com
X-WR-CALDESC:Events for Clearview Vineyard
BEGIN:VEVENT
DTSTART;TZID=America/New_York:20171125T140000
DTEND;TZID=America/New_York:20171125T170000
DTSTAMP:20260425T214953
CREATED:20171104T123615Z
LAST-MODIFIED:20171104T123615Z
UID:31893-1511618400-1511629200@clearviewvineyard.com
SUMMARY:Smokin' Buddy Steve
DESCRIPTION:Steve Wells plays classic rock & country\, pop and blues. \n \n  \n
URL:https://clearviewvineyard.com/event/smokin-buddy-steve/
CATEGORIES:Wine Trail Events Calendar
END:VEVENT
END:VCALENDAR