BEGIN:VCALENDAR
VERSION:2.0
PRODID:-//Clearview Vineyard - ECPv4.6.14.1//NONSGML v1.0//EN
CALSCALE:GREGORIAN
METHOD:PUBLISH
X-WR-CALNAME:Clearview Vineyard
X-ORIGINAL-URL:https://clearviewvineyard.com
X-WR-CALDESC:Events for Clearview Vineyard
BEGIN:VEVENT
DTSTART;TZID=America/New_York:20260614T080000
DTEND;TZID=America/New_York:20260614T170000
DTSTAMP:20260424T185334
CREATED:20260421T204721Z
LAST-MODIFIED:20260421T204721Z
UID:33612-1781424000-1781456400@clearviewvineyard.com
SUMMARY:Six Degrees
DESCRIPTION:Six Degrees plays pop and classic rock. \n
URL:https://clearviewvineyard.com/event/six-degrees/
CATEGORIES:Music at Clearview
END:VEVENT
END:VCALENDAR