BEGIN:VCALENDAR
VERSION:2.0
PRODID:-//Clearview Vineyard - ECPv4.6.14.1//NONSGML v1.0//EN
CALSCALE:GREGORIAN
METHOD:PUBLISH
X-WR-CALNAME:Clearview Vineyard
X-ORIGINAL-URL:https://clearviewvineyard.com
X-WR-CALDESC:Events for Clearview Vineyard
BEGIN:VEVENT
DTSTART;TZID=America/New_York:20171111T140000
DTEND;TZID=America/New_York:20171111T170000
DTSTAMP:20260426T002718
CREATED:20171009T120924Z
LAST-MODIFIED:20171009T120924Z
UID:31884-1510408800-1510419600@clearviewvineyard.com
SUMMARY:Side by Side (Darryl Wilbur)
DESCRIPTION:Side by Side (Darryl Wilbur) plays classic light folk\, rock\, contemporary. \n  \n
URL:https://clearviewvineyard.com/event/side-side-darryl-wilbur/
CATEGORIES:Music at Clearview
END:VEVENT
END:VCALENDAR