BEGIN:VCALENDAR
VERSION:2.0
PRODID:-//Clearview Vineyard - ECPv4.6.14.1//NONSGML v1.0//EN
CALSCALE:GREGORIAN
METHOD:PUBLISH
X-WR-CALNAME:Clearview Vineyard
X-ORIGINAL-URL:https://clearviewvineyard.com
X-WR-CALDESC:Events for Clearview Vineyard
BEGIN:VEVENT
DTSTART;TZID=America/New_York:20180505T140000
DTEND;TZID=America/New_York:20180505T170000
DTSTAMP:20260426T023905
CREATED:20180430T163822Z
LAST-MODIFIED:20180430T163822Z
UID:31959-1525528800-1525539600@clearviewvineyard.com
SUMMARY:Side by Side (Darryl Wilbur)
DESCRIPTION:Side by Side (Darryl Wilbur) plays classic light folk\, rock\, contemporary. \n \n  \n
URL:https://clearviewvineyard.com/event/side-by-side-darryl-wilbur/
CATEGORIES:Music at Clearview
END:VEVENT
END:VCALENDAR