BEGIN:VCALENDAR
VERSION:2.0
PRODID:-//Clearview Vineyard - ECPv4.6.14.1//NONSGML v1.0//EN
CALSCALE:GREGORIAN
METHOD:PUBLISH
X-WR-CALNAME:Clearview Vineyard
X-ORIGINAL-URL:https://clearviewvineyard.com
X-WR-CALDESC:Events for Clearview Vineyard
BEGIN:VEVENT
DTSTART;TZID=America/New_York:20200726T140000
DTEND;TZID=America/New_York:20200726T170000
DTSTAMP:20260424T193438
CREATED:20200622T193328Z
LAST-MODIFIED:20200630T105512Z
UID:32443-1595772000-1595782800@clearviewvineyard.com
SUMMARY:Rock Ridge Duo
DESCRIPTION:Rock Ridge Duo plays blues\, classic rock and pop. \n \n
URL:https://clearviewvineyard.com/event/rock-ridge-duo-3/
CATEGORIES:Music at Clearview
END:VEVENT
END:VCALENDAR