BEGIN:VCALENDAR
VERSION:2.0
PRODID:-//Clearview Vineyard - ECPv4.6.14.1//NONSGML v1.0//EN
CALSCALE:GREGORIAN
METHOD:PUBLISH
X-WR-CALNAME:Clearview Vineyard
X-ORIGINAL-URL:https://clearviewvineyard.com
X-WR-CALDESC:Events for Clearview Vineyard
BEGIN:VEVENT
DTSTART;TZID=America/New_York:20201101T140000
DTEND;TZID=America/New_York:20201101T170000
DTSTAMP:20260423T073534
CREATED:20201026T141908Z
LAST-MODIFIED:20201026T141908Z
UID:32538-1604239200-1604250000@clearviewvineyard.com
SUMMARY:Rick Obrson
DESCRIPTION:Rick Oberson plays classic rock and pop. \n  \n
URL:https://clearviewvineyard.com/event/rick-obrson/
CATEGORIES:Music at Clearview
END:VEVENT
END:VCALENDAR