BEGIN:VCALENDAR
VERSION:2.0
PRODID:-//Clearview Vineyard - ECPv4.6.14.1//NONSGML v1.0//EN
CALSCALE:GREGORIAN
METHOD:PUBLISH
X-WR-CALNAME:Clearview Vineyard
X-ORIGINAL-URL:https://clearviewvineyard.com
X-WR-CALDESC:Events for Clearview Vineyard
BEGIN:VEVENT
DTSTART;TZID=America/New_York:20210411T140000
DTEND;TZID=America/New_York:20210411T170000
DTSTAMP:20260423T020337
CREATED:20210218T150502Z
LAST-MODIFIED:20210218T150502Z
UID:32563-1618149600-1618160400@clearviewvineyard.com
SUMMARY:Richie G Review
DESCRIPTION:Richie G Review plays pop and classic rock. \n \n
URL:https://clearviewvineyard.com/event/richie-g-review-3/
CATEGORIES:Music at Clearview
END:VEVENT
END:VCALENDAR