BEGIN:VCALENDAR
VERSION:2.0
PRODID:-//Clearview Vineyard - ECPv4.6.14.1//NONSGML v1.0//EN
CALSCALE:GREGORIAN
METHOD:PUBLISH
X-WR-CALNAME:Clearview Vineyard
X-ORIGINAL-URL:https://clearviewvineyard.com
X-WR-CALDESC:Events for Clearview Vineyard
BEGIN:VEVENT
DTSTART;TZID=America/New_York:20191214T140000
DTEND;TZID=America/New_York:20191214T170000
DTSTAMP:20260425T235857
CREATED:20191029T121941Z
LAST-MODIFIED:20191029T121941Z
UID:32370-1576332000-1576342800@clearviewvineyard.com
SUMMARY:Richie G One Man Band
DESCRIPTION:Richie G One Man Band plays classic rock and pop. \n \n
URL:https://clearviewvineyard.com/event/richie-g-one-man-band-5/
CATEGORIES:Music at Clearview
END:VEVENT
END:VCALENDAR