BEGIN:VCALENDAR
VERSION:2.0
PRODID:-//Clearview Vineyard - ECPv4.6.14.1//NONSGML v1.0//EN
CALSCALE:GREGORIAN
METHOD:PUBLISH
X-WR-CALNAME:Clearview Vineyard
X-ORIGINAL-URL:https://clearviewvineyard.com
X-WR-CALDESC:Events for Clearview Vineyard
BEGIN:VEVENT
DTSTART;TZID=America/New_York:20171203T080000
DTEND;TZID=America/New_York:20171203T170000
DTSTAMP:20260425T225847
CREATED:20171104T125440Z
LAST-MODIFIED:20171104T125653Z
UID:31902-1512288000-1512320400@clearviewvineyard.com
SUMMARY:Ray Longchamp
DESCRIPTION:Ray Longchamp plays classic rock\, blues and pop. \n \n
URL:https://clearviewvineyard.com/event/ray-longchamp-4/
CATEGORIES:Music at Clearview
END:VEVENT
END:VCALENDAR