BEGIN:VCALENDAR
VERSION:2.0
PRODID:-//Clearview Vineyard - ECPv4.6.14.1//NONSGML v1.0//EN
CALSCALE:GREGORIAN
METHOD:PUBLISH
X-WR-CALNAME:Clearview Vineyard
X-ORIGINAL-URL:https://clearviewvineyard.com
X-WR-CALDESC:Events for Clearview Vineyard
BEGIN:VEVENT
DTSTART;TZID=America/New_York:20200823T120000
DTEND;TZID=America/New_York:20200823T170000
DTSTAMP:20260424T090116
CREATED:20200721T093756Z
LAST-MODIFIED:20200721T093756Z
UID:32484-1598184000-1598202000@clearviewvineyard.com
SUMMARY:Ray Longchamp
DESCRIPTION:Ray Longchamp plays classic rock\, blues and pop. \n \n
URL:https://clearviewvineyard.com/event/ray-longchamp-13/
CATEGORIES:Music at Clearview
END:VEVENT
END:VCALENDAR