BEGIN:VCALENDAR
VERSION:2.0
PRODID:-//Clearview Vineyard - ECPv4.6.14.1//NONSGML v1.0//EN
CALSCALE:GREGORIAN
METHOD:PUBLISH
X-WR-CALNAME:Clearview Vineyard
X-ORIGINAL-URL:https://clearviewvineyard.com
X-WR-CALDESC:Events for Clearview Vineyard
BEGIN:VEVENT
DTSTART;VALUE=DATE:20170623
DTEND;VALUE=DATE:20170801
DTSTAMP:20260426T020124
CREATED:20170623T123749Z
LAST-MODIFIED:20170623T123749Z
UID:31723-1498176000-1501545599@clearviewvineyard.com
SUMMARY:Photo Exhibit by Miroslav Vrzala
DESCRIPTION:Come view and buy some of the great photos by Miroslav Vrzala in June & July.  \n  \n \n
URL:https://clearviewvineyard.com/event/photo-exhibit-miroslav-vrzala/
CATEGORIES:Music at Clearview
END:VEVENT
END:VCALENDAR