BEGIN:VCALENDAR
VERSION:2.0
PRODID:-//Clearview Vineyard - ECPv4.6.14.1//NONSGML v1.0//EN
CALSCALE:GREGORIAN
METHOD:PUBLISH
X-WR-CALNAME:Clearview Vineyard
X-ORIGINAL-URL:https://clearviewvineyard.com
X-WR-CALDESC:Events for Clearview Vineyard
BEGIN:VEVENT
DTSTART;TZID=America/New_York:20200711T140000
DTEND;TZID=America/New_York:20200711T170000
DTSTAMP:20260425T021449
CREATED:20200622T190534Z
LAST-MODIFIED:20200630T105234Z
UID:32432-1594476000-1594486800@clearviewvineyard.com
SUMMARY:Paul Binotto
DESCRIPTION:Paul Binotto plays classic rock\, blues and pop. \n \n
URL:https://clearviewvineyard.com/event/paul-binotto-8/
CATEGORIES:Music at Clearview
END:VEVENT
END:VCALENDAR