BEGIN:VCALENDAR
VERSION:2.0
PRODID:-//Clearview Vineyard - ECPv4.6.14.1//NONSGML v1.0//EN
CALSCALE:GREGORIAN
METHOD:PUBLISH
X-WR-CALNAME:Clearview Vineyard
X-ORIGINAL-URL:https://clearviewvineyard.com
X-WR-CALDESC:Events for Clearview Vineyard
BEGIN:VEVENT
DTSTART;TZID=America/New_York:20191130T140000
DTEND;TZID=America/New_York:20191130T170000
DTSTAMP:20260426T040257
CREATED:20191029T120201Z
LAST-MODIFIED:20191029T120201Z
UID:32362-1575122400-1575133200@clearviewvineyard.com
SUMMARY:Paul Binotto
DESCRIPTION:Paul Binotto plays a wide range of music including pop\, classic rock and blues. \n \n
URL:https://clearviewvineyard.com/event/paul-binotto-7/
CATEGORIES:Music at Clearview
END:VEVENT
END:VCALENDAR