BEGIN:VCALENDAR
VERSION:2.0
PRODID:-//Clearview Vineyard - ECPv4.6.14.1//NONSGML v1.0//EN
CALSCALE:GREGORIAN
METHOD:PUBLISH
X-WR-CALNAME:Clearview Vineyard
X-ORIGINAL-URL:https://clearviewvineyard.com
X-WR-CALDESC:Events for Clearview Vineyard
BEGIN:VEVENT
DTSTART;TZID=America/New_York:20171202T140000
DTEND;TZID=America/New_York:20171202T170000
DTSTAMP:20260425T231502
CREATED:20171104T124856Z
LAST-MODIFIED:20171104T124856Z
UID:31900-1512223200-1512234000@clearviewvineyard.com
SUMMARY:Nailed Shutt Acoustic
DESCRIPTION:Nailed Shutt Acoustic plays Almann Grothers\, Grateful Dead\, Dylan; and many more. \n \n
URL:https://clearviewvineyard.com/event/nailed-shutt-acoustic-2/
CATEGORIES:Music at Clearview
END:VEVENT
END:VCALENDAR