BEGIN:VCALENDAR
VERSION:2.0
PRODID:-//Clearview Vineyard - ECPv4.6.14.1//NONSGML v1.0//EN
CALSCALE:GREGORIAN
METHOD:PUBLISH
X-WR-CALNAME:Clearview Vineyard
X-ORIGINAL-URL:https://clearviewvineyard.com
X-WR-CALDESC:Events for Clearview Vineyard
BEGIN:VEVENT
DTSTART;TZID=America/New_York:20260606T140000
DTEND;TZID=America/New_York:20260606T170000
DTSTAMP:20260424T185410
CREATED:20260421T204206Z
LAST-MODIFIED:20260421T204206Z
UID:33606-1780754400-1780765200@clearviewvineyard.com
SUMMARY:Nailed Shutt Acoustic
DESCRIPTION:Nailed Shutt Acoustic plays Americana\, Blues\, Reggae and Grateful Dead. \n
URL:https://clearviewvineyard.com/event/nailed-shutt-acoustic-17/
CATEGORIES:Music at Clearview
END:VEVENT
END:VCALENDAR