BEGIN:VCALENDAR
VERSION:2.0
PRODID:-//Clearview Vineyard - ECPv4.6.14.1//NONSGML v1.0//EN
CALSCALE:GREGORIAN
METHOD:PUBLISH
X-WR-CALNAME:Clearview Vineyard
X-ORIGINAL-URL:https://clearviewvineyard.com
X-WR-CALDESC:Events for Clearview Vineyard
BEGIN:VEVENT
DTSTART;TZID=America/New_York:20201004T140000
DTEND;TZID=America/New_York:20201004T170000
DTSTAMP:20260423T183734
CREATED:20200826T111844Z
LAST-MODIFIED:20200826T111844Z
UID:32518-1601820000-1601830800@clearviewvineyard.com
SUMMARY:Nailed Shut Acoustic
DESCRIPTION:Nailed Shut Acoustic plays classic rock\, pop and country. \n \n
URL:https://clearviewvineyard.com/event/nailed-shut-acoustic-4/
CATEGORIES:Music at Clearview
END:VEVENT
END:VCALENDAR