BEGIN:VCALENDAR
VERSION:2.0
PRODID:-//Clearview Vineyard - ECPv4.6.14.1//NONSGML v1.0//EN
CALSCALE:GREGORIAN
METHOD:PUBLISH
X-WR-CALNAME:Clearview Vineyard
X-ORIGINAL-URL:https://clearviewvineyard.com
X-WR-CALDESC:Events for Clearview Vineyard
BEGIN:VEVENT
DTSTART;TZID=America/New_York:20260516T140000
DTEND;TZID=America/New_York:20260516T170000
DTSTAMP:20260424T185940
CREATED:20260421T202611Z
LAST-MODIFIED:20260421T202611Z
UID:33594-1778940000-1778950800@clearviewvineyard.com
SUMMARY:Missyping Band
DESCRIPTION:Missyping Band plays Classic rock and pop. \n
URL:https://clearviewvineyard.com/event/missyping-band/
CATEGORIES:Music at Clearview
END:VEVENT
END:VCALENDAR