BEGIN:VCALENDAR
VERSION:2.0
PRODID:-//Clearview Vineyard - ECPv4.6.14.1//NONSGML v1.0//EN
CALSCALE:GREGORIAN
METHOD:PUBLISH
X-WR-CALNAME:Clearview Vineyard
X-ORIGINAL-URL:https://clearviewvineyard.com
X-WR-CALDESC:Events for Clearview Vineyard
BEGIN:VEVENT
DTSTART;TZID=America/New_York:20161112T140000
DTEND;TZID=America/New_York:20161112T170000
DTSTAMP:20260425T205117
CREATED:20161022T161238Z
LAST-MODIFIED:20161101T114731Z
UID:30964-1478959200-1478970000@clearviewvineyard.com
SUMMARY:Midnight Slim and LaurieAnne
DESCRIPTION:Midnight Slim and LaurieAnne at Clearview Vineyard:  \nClassic Rock\, Soft Rock\, Soul\, Blues\nLaurieAnne has partnered with her former bandmate\, Blues Hall Of Fame Inductee\, Fred “Midnight Slim” Scribner\, performing all around the Hudson Valley. She is coming out with her first CD of originals produced and played on by Scribner entitled “Ready to Ride.” \nMusic\, Each Saturday & Sunday 2pm-5pm \nLive Music on our beautiful wooden porch or in our tasting room\, weather depending\, every weekend from 2-5pm. Enjoy the music with a glass of Clearview Vineyard wine or sangria. We also serve Aaron Burr Ciders\, Applewood’s Naked Flock Ciders\,  Rushing Duck Brewery and Pine Island Brewery Beer and Ale\, available for purchase by the glass. Delicious small plates are also available\, including cheese & fruit board\, sliced baguette with mozzarella\, tomato\, basil plus other seasonal selections. \nConsider doing a wine tasting\, which includes a flight of 6 wines and a souvenir Clearview Vineyard logo 12.75oz wine glass.  Our wine tasting flight is $7. \n
URL:https://clearviewvineyard.com/event/midnight-slim-laurieanne/
LOCATION:35 Clearview Lane\, Warwick\, NY\, 10990\, United States
CATEGORIES:Music at Clearview
ATTACH;FMTTYPE=image/jpeg:https://clearviewvineyard.com/wp-content/uploads/2016/10/Midnight-Slim-LaurieAnne300x300.jpg
END:VEVENT
END:VCALENDAR