BEGIN:VCALENDAR
VERSION:2.0
PRODID:-//Clearview Vineyard - ECPv4.6.14.1//NONSGML v1.0//EN
CALSCALE:GREGORIAN
METHOD:PUBLISH
X-WR-CALNAME:Clearview Vineyard
X-ORIGINAL-URL:https://clearviewvineyard.com
X-WR-CALDESC:Events for Clearview Vineyard
BEGIN:VEVENT
DTSTART;TZID=America/New_York:20260523T140000
DTEND;TZID=America/New_York:20260523T170000
DTSTAMP:20260424T185456
CREATED:20260421T203103Z
LAST-MODIFIED:20260421T203103Z
UID:33598-1779544800-1779555600@clearviewvineyard.com
SUMMARY:Midnight Slim & Laurie Anne
DESCRIPTION:Midnight Slim & Laurie Anne play country\, classic rock and pop. \n
URL:https://clearviewvineyard.com/event/midnight-slim-laurie-anne-3/
CATEGORIES:Music at Clearview
END:VEVENT
END:VCALENDAR