BEGIN:VCALENDAR
VERSION:2.0
PRODID:-//Clearview Vineyard - ECPv4.6.14.1//NONSGML v1.0//EN
CALSCALE:GREGORIAN
METHOD:PUBLISH
X-WR-CALNAME:Clearview Vineyard
X-ORIGINAL-URL:https://clearviewvineyard.com
X-WR-CALDESC:Events for Clearview Vineyard
BEGIN:VEVENT
DTSTART;TZID=America/New_York:20200815T120000
DTEND;TZID=America/New_York:20200815T170000
DTSTAMP:20260424T124452
CREATED:20200720T102601Z
LAST-MODIFIED:20200720T102601Z
UID:32478-1597492800-1597510800@clearviewvineyard.com
SUMMARY:Midnight Slim and LaurieAnne
DESCRIPTION:Midnight Slim and LaurieAnne play classic rock\, blues\, country and pop. \n \n
URL:https://clearviewvineyard.com/event/midnight-slim-and-laurieanne-8/
CATEGORIES:Music at Clearview
END:VEVENT
END:VCALENDAR