BEGIN:VCALENDAR
VERSION:2.0
PRODID:-//Clearview Vineyard - ECPv4.6.14.1//NONSGML v1.0//EN
CALSCALE:GREGORIAN
METHOD:PUBLISH
X-WR-CALNAME:Clearview Vineyard
X-ORIGINAL-URL:https://clearviewvineyard.com
X-WR-CALDESC:Events for Clearview Vineyard
BEGIN:VEVENT
DTSTART;TZID=America/New_York:20201031T140000
DTEND;TZID=America/New_York:20201031T170000
DTSTAMP:20260423T084613
CREATED:20201026T141643Z
LAST-MODIFIED:20201026T141643Z
UID:32536-1604152800-1604163600@clearviewvineyard.com
SUMMARY:Midnight Slim and LaurieAnne
DESCRIPTION:Midnight Slim and LaurieAnne play classic rock\, blues\, pop and country. \n \n
URL:https://clearviewvineyard.com/event/midnight-slim-and-laurieanne-10/
CATEGORIES:Music at Clearview
END:VEVENT
END:VCALENDAR