BEGIN:VCALENDAR
VERSION:2.0
PRODID:-//Clearview Vineyard - ECPv4.6.14.1//NONSGML v1.0//EN
CALSCALE:GREGORIAN
METHOD:PUBLISH
X-WR-CALNAME:Clearview Vineyard
X-ORIGINAL-URL:https://clearviewvineyard.com
X-WR-CALDESC:Events for Clearview Vineyard
BEGIN:VEVENT
DTSTART;TZID=America/New_York:20260530T140000
DTEND;TZID=America/New_York:20260530T170000
DTSTAMP:20260424T185405
CREATED:20260421T203610Z
LAST-MODIFIED:20260421T203610Z
UID:33602-1780149600-1780160400@clearviewvineyard.com
SUMMARY:Kyle Hancharick
DESCRIPTION:Kyle Hancharick plays pop and classic rock. \n
URL:https://clearviewvineyard.com/event/kyle-hancharick-3/
CATEGORIES:Music at Clearview
END:VEVENT
END:VCALENDAR