BEGIN:VCALENDAR
VERSION:2.0
PRODID:-//Clearview Vineyard - ECPv4.6.14.1//NONSGML v1.0//EN
CALSCALE:GREGORIAN
METHOD:PUBLISH
X-WR-CALNAME:Clearview Vineyard
X-ORIGINAL-URL:https://clearviewvineyard.com
X-WR-CALDESC:Events for Clearview Vineyard
BEGIN:VEVENT
DTSTART;TZID=America/New_York:20170408T140000
DTEND;TZID=America/New_York:20170408T170000
DTSTAMP:20260425T225628
CREATED:20170214T165429Z
LAST-MODIFIED:20170406T160802Z
UID:31456-1491660000-1491670800@clearviewvineyard.com
SUMMARY:Keith Newman
DESCRIPTION:Keith Newman Acoustic classic rock\, 12 string. Covers Beatles\, Rolling Stones\, Grateful Dead\, Eagles\, Bob Dylan\, Cat Stevens\, Simon and Garfunkel\, Pink Floyd\, Jim Croce \n \n
URL:https://clearviewvineyard.com/event/keith-newman-2/
LOCATION:35 Clearview Lane\, Warwick\, NY\, 10990\, United States
CATEGORIES:Music at Clearview
END:VEVENT
END:VCALENDAR