BEGIN:VCALENDAR
VERSION:2.0
PRODID:-//Clearview Vineyard - ECPv4.6.14.1//NONSGML v1.0//EN
CALSCALE:GREGORIAN
METHOD:PUBLISH
X-WR-CALNAME:Clearview Vineyard
X-ORIGINAL-URL:https://clearviewvineyard.com
X-WR-CALDESC:Events for Clearview Vineyard
BEGIN:VEVENT
DTSTART;TZID=America/New_York:20200419T140000
DTEND;TZID=America/New_York:20200419T170000
DTSTAMP:20260425T115949
CREATED:20200227T140235Z
LAST-MODIFIED:20200318T125822Z
UID:32388-1587304800-1587315600@clearviewvineyard.com
SUMMARY:Keith Newman Cancelled due to COVID-19 virus
DESCRIPTION:Keith Newman plays classic rock and pop. \n \n
URL:https://clearviewvineyard.com/event/keith-newman-14/
CATEGORIES:Music at Clearview
END:VEVENT
END:VCALENDAR