BEGIN:VCALENDAR
VERSION:2.0
PRODID:-//Clearview Vineyard - ECPv4.6.14.1//NONSGML v1.0//EN
CALSCALE:GREGORIAN
METHOD:PUBLISH
X-WR-CALNAME:Clearview Vineyard
X-ORIGINAL-URL:https://clearviewvineyard.com
X-WR-CALDESC:Events for Clearview Vineyard
BEGIN:VEVENT
DTSTART;TZID=America/New_York:20210410T140000
DTEND;TZID=America/New_York:20210410T170000
DTSTAMP:20260423T032642
CREATED:20210218T150122Z
LAST-MODIFIED:20210218T150122Z
UID:32561-1618063200-1618074000@clearviewvineyard.com
SUMMARY:Joshua Tree
DESCRIPTION:Joshua Tree plays Classic rock\, pop and country. \n \n
URL:https://clearviewvineyard.com/event/joshua-tree-8/
CATEGORIES:Music at Clearview
END:VEVENT
END:VCALENDAR