BEGIN:VCALENDAR
VERSION:2.0
PRODID:-//Clearview Vineyard - ECPv4.6.14.1//NONSGML v1.0//EN
CALSCALE:GREGORIAN
METHOD:PUBLISH
X-WR-CALNAME:Clearview Vineyard
X-ORIGINAL-URL:https://clearviewvineyard.com
X-WR-CALDESC:Events for Clearview Vineyard
BEGIN:VEVENT
DTSTART;TZID=America/New_York:20200418T140000
DTEND;TZID=America/New_York:20200418T170000
DTSTAMP:20260425T132534
CREATED:20200227T140024Z
LAST-MODIFIED:20200318T125753Z
UID:32386-1587218400-1587229200@clearviewvineyard.com
SUMMARY:Joshua Tree Cancelled due to COVID-19 virus
DESCRIPTION:Joshua Tree plays country\, pop and classic rock. \n \n
URL:https://clearviewvineyard.com/event/joshua-tree-7/
CATEGORIES:Music at Clearview
END:VEVENT
END:VCALENDAR