BEGIN:VCALENDAR
VERSION:2.0
PRODID:-//Clearview Vineyard - ECPv4.6.14.1//NONSGML v1.0//EN
CALSCALE:GREGORIAN
METHOD:PUBLISH
X-WR-CALNAME:Clearview Vineyard
X-ORIGINAL-URL:https://clearviewvineyard.com
X-WR-CALDESC:Events for Clearview Vineyard
BEGIN:VEVENT
DTSTART;TZID=America/New_York:20170401T140000
DTEND;TZID=America/New_York:20170401T170000
DTSTAMP:20260425T220652
CREATED:20170214T164645Z
LAST-MODIFIED:20170214T164750Z
UID:31453-1491055200-1491066000@clearviewvineyard.com
SUMMARY:John-Pierre Conques
DESCRIPTION:John-Pierre Conques\, playing 1970s-present\, Alman Brothers\, Eagles\, Zac Brown \n
URL:https://clearviewvineyard.com/event/john-pierre-conques/
LOCATION:35 Clearview Lane\, Warwick\, NY\, 10990\, United States
CATEGORIES:Music at Clearview
END:VEVENT
END:VCALENDAR