BEGIN:VCALENDAR
VERSION:2.0
PRODID:-//Clearview Vineyard - ECPv4.6.14.1//NONSGML v1.0//EN
CALSCALE:GREGORIAN
METHOD:PUBLISH
X-WR-CALNAME:Clearview Vineyard
X-ORIGINAL-URL:https://clearviewvineyard.com
X-WR-CALDESC:Events for Clearview Vineyard
BEGIN:VEVENT
DTSTART;TZID=America/New_York:20170527T140000
DTEND;TZID=America/New_York:20170527T170000
DTSTAMP:20260426T034025
CREATED:20170502T123825Z
LAST-MODIFIED:20170502T123825Z
UID:31659-1495893600-1495904400@clearviewvineyard.com
SUMMARY:John-Pierre Conques
DESCRIPTION:John -Pierre is a graduate of the Crane School of Music. \nHe play’s 70’s to the present.  Allmann Brothers\, Eagles \nand Zak Brown.  A favorite here a Clearview Vineyard. \n \n
URL:https://clearviewvineyard.com/event/john-pierre-conques-3/
CATEGORIES:Music at Clearview
END:VEVENT
END:VCALENDAR