BEGIN:VCALENDAR
VERSION:2.0
PRODID:-//Clearview Vineyard - ECPv4.6.14.1//NONSGML v1.0//EN
CALSCALE:GREGORIAN
METHOD:PUBLISH
X-WR-CALNAME:Clearview Vineyard
X-ORIGINAL-URL:https://clearviewvineyard.com
X-WR-CALDESC:Events for Clearview Vineyard
BEGIN:VEVENT
DTSTART;TZID=America/New_York:20170603T140000
DTEND;TZID=America/New_York:20170603T170000
DTSTAMP:20260426T015914
CREATED:20170501T234223Z
LAST-MODIFIED:20170501T235847Z
UID:31647-1496498400-1496509200@clearviewvineyard.com
SUMMARY:Midnight Slim and LaurieAnne
DESCRIPTION:Midnight Slim and LaurieAnne play and sing classic \ncountry sounds mixed with a little soul and country \nrock\, blues and soft rock ballads. \n \n  \n  \n
URL:https://clearviewvineyard.com/event/john-pierre-conques-2/
CATEGORIES:Music at Clearview
END:VEVENT
END:VCALENDAR