BEGIN:VCALENDAR
VERSION:2.0
PRODID:-//Clearview Vineyard - ECPv4.6.14.1//NONSGML v1.0//EN
CALSCALE:GREGORIAN
METHOD:PUBLISH
X-WR-CALNAME:Clearview Vineyard
X-ORIGINAL-URL:https://clearviewvineyard.com
X-WR-CALDESC:Events for Clearview Vineyard
BEGIN:VEVENT
DTSTART;TZID=America/New_York:20200712T140000
DTEND;TZID=America/New_York:20200712T170000
DTSTAMP:20260425T004104
CREATED:20200622T190845Z
LAST-MODIFIED:20200630T105313Z
UID:32434-1594562400-1594573200@clearviewvineyard.com
SUMMARY:John-Pierre Conques
DESCRIPTION:John-Pierre Conques plays classic rock\, blues and pop. \n \n
URL:https://clearviewvineyard.com/event/john-pierre-conques-16/
CATEGORIES:Music at Clearview
END:VEVENT
END:VCALENDAR