BEGIN:VCALENDAR
VERSION:2.0
PRODID:-//Clearview Vineyard - ECPv4.6.14.1//NONSGML v1.0//EN
CALSCALE:GREGORIAN
METHOD:PUBLISH
X-WR-CALNAME:Clearview Vineyard
X-ORIGINAL-URL:https://clearviewvineyard.com
X-WR-CALDESC:Events for Clearview Vineyard
BEGIN:VEVENT
DTSTART;TZID=America/New_York:20240412T173000
DTEND;TZID=America/New_York:20240412T203000
DTSTAMP:20260421T120910
CREATED:20240404T154522Z
LAST-MODIFIED:20240404T154522Z
UID:33185-1712943000-1712953800@clearviewvineyard.com
SUMMARY:Jeremy Langdale
DESCRIPTION:Jeremy Plays Blues\, classic rock and pop. \n \n
URL:https://clearviewvineyard.com/event/jeremy-langdale-33/
CATEGORIES:Music at Clearview
END:VEVENT
END:VCALENDAR