BEGIN:VCALENDAR
VERSION:2.0
PRODID:-//Clearview Vineyard - ECPv4.6.14.1//NONSGML v1.0//EN
CALSCALE:GREGORIAN
METHOD:PUBLISH
X-WR-CALNAME:Clearview Vineyard
X-ORIGINAL-URL:https://clearviewvineyard.com
X-WR-CALDESC:Events for Clearview Vineyard
BEGIN:VEVENT
DTSTART;TZID=America/New_York:20170610T140000
DTEND;TZID=America/New_York:20170610T170000
DTSTAMP:20260425T231421
CREATED:20170529T155904Z
LAST-MODIFIED:20170531T163509Z
UID:31704-1497103200-1497114000@clearviewvineyard.com
SUMMARY:Jeremy Langdale
DESCRIPTION:Jeremy Langdale will be performing classic rock\, pop and blues. \n
URL:https://clearviewvineyard.com/event/jeremy-langdale-2/
CATEGORIES:Music at Clearview
END:VEVENT
END:VCALENDAR