BEGIN:VCALENDAR
VERSION:2.0
PRODID:-//Clearview Vineyard - ECPv4.6.14.1//NONSGML v1.0//EN
CALSCALE:GREGORIAN
METHOD:PUBLISH
X-WR-CALNAME:Clearview Vineyard
X-ORIGINAL-URL:https://clearviewvineyard.com
X-WR-CALDESC:Events for Clearview Vineyard
BEGIN:VEVENT
DTSTART;TZID=America/New_York:20200802T140000
DTEND;TZID=America/New_York:20200802T170000
DTSTAMP:20260424T170517
CREATED:20200630T111611Z
LAST-MODIFIED:20200630T111611Z
UID:32456-1596376800-1596387600@clearviewvineyard.com
SUMMARY:I-287 Classic
DESCRIPTION:I-287 Classic plays classic rock. \n \n  \n
URL:https://clearviewvineyard.com/event/i-287-classic/
CATEGORIES:Music at Clearview
END:VEVENT
END:VCALENDAR