BEGIN:VCALENDAR
VERSION:2.0
PRODID:-//Clearview Vineyard - ECPv4.6.14.1//NONSGML v1.0//EN
CALSCALE:GREGORIAN
METHOD:PUBLISH
X-WR-CALNAME:Clearview Vineyard
X-ORIGINAL-URL:https://clearviewvineyard.com
X-WR-CALDESC:Events for Clearview Vineyard
BEGIN:VEVENT
DTSTART;TZID=America/New_York:20180429T140000
DTEND;TZID=America/New_York:20180429T170000
DTSTAMP:20260426T040005
CREATED:20180303T132357Z
LAST-MODIFIED:20180303T132357Z
UID:31932-1525010400-1525021200@clearviewvineyard.com
SUMMARY:Hip Replacements
DESCRIPTION:The Hip Replacements are here again playing classic rock and pop. \n \n
URL:https://clearviewvineyard.com/event/hip-replacements/
CATEGORIES:Music at Clearview
END:VEVENT
END:VCALENDAR