BEGIN:VCALENDAR
VERSION:2.0
PRODID:-//Clearview Vineyard - ECPv4.6.14.1//NONSGML v1.0//EN
CALSCALE:GREGORIAN
METHOD:PUBLISH
X-WR-CALNAME:Clearview Vineyard
X-ORIGINAL-URL:https://clearviewvineyard.com
X-WR-CALDESC:Events for Clearview Vineyard
BEGIN:VEVENT
DTSTART;TZID=America/New_York:20201011T140000
DTEND;TZID=America/New_York:20201011T170000
DTSTAMP:20260423T172626
CREATED:20200916T102119Z
LAST-MODIFIED:20200916T103745Z
UID:32523-1602424800-1602435600@clearviewvineyard.com
SUMMARY:Hip Replacements
DESCRIPTION:Hip Replacements play classic rock\, pop and blues. \n \n
URL:https://clearviewvineyard.com/event/hip-replacements-9/
CATEGORIES:Music at Clearview
END:VEVENT
END:VCALENDAR