BEGIN:VCALENDAR
VERSION:2.0
PRODID:-//Clearview Vineyard - ECPv4.6.14.1//NONSGML v1.0//EN
CALSCALE:GREGORIAN
METHOD:PUBLISH
X-WR-CALNAME:Clearview Vineyard
X-ORIGINAL-URL:https://clearviewvineyard.com
X-WR-CALDESC:Events for Clearview Vineyard
BEGIN:VEVENT
DTSTART;TZID=America/New_York:20191215T140000
DTEND;TZID=America/New_York:20191215T170000
DTSTAMP:20260425T211905
CREATED:20191029T122215Z
LAST-MODIFIED:20191029T122215Z
UID:32372-1576418400-1576429200@clearviewvineyard.com
SUMMARY:Hip Replacements
DESCRIPTION:The Hip Replacements play classic rock\, blues and pop. \n \n
URL:https://clearviewvineyard.com/event/hip-replacements-8/
CATEGORIES:Music at Clearview
END:VEVENT
END:VCALENDAR