BEGIN:VCALENDAR
VERSION:2.0
PRODID:-//Clearview Vineyard - ECPv4.6.14.1//NONSGML v1.0//EN
CALSCALE:GREGORIAN
METHOD:PUBLISH
X-WR-CALNAME:Clearview Vineyard
X-ORIGINAL-URL:https://clearviewvineyard.com
X-WR-CALDESC:Events for Clearview Vineyard
BEGIN:VEVENT
DTSTART;TZID=America/New_York:20230604T140000
DTEND;TZID=America/New_York:20230604T170000
DTSTAMP:20260426T041729
CREATED:20230309T182956Z
LAST-MODIFIED:20230309T182956Z
UID:33012-1685887200-1685898000@clearviewvineyard.com
SUMMARY:Hip Replacements
DESCRIPTION:Hip Replacements play classic rock\, blues and pop. \n \n
URL:https://clearviewvineyard.com/event/hip-replacements-18/
CATEGORIES:Music at Clearview
END:VEVENT
END:VCALENDAR