BEGIN:VCALENDAR
VERSION:2.0
PRODID:-//Clearview Vineyard - ECPv4.6.14.1//NONSGML v1.0//EN
CALSCALE:GREGORIAN
METHOD:PUBLISH
X-WR-CALNAME:Clearview Vineyard
X-ORIGINAL-URL:https://clearviewvineyard.com
X-WR-CALDESC:Events for Clearview Vineyard
BEGIN:VEVENT
DTSTART;TZID=America/New_York:20220424T140000
DTEND;TZID=America/New_York:20220424T170000
DTSTAMP:20260422T001905
CREATED:20220303T151059Z
LAST-MODIFIED:20220303T151059Z
UID:32782-1650808800-1650819600@clearviewvineyard.com
SUMMARY:Hip Replacements
DESCRIPTION:The Hip Replacements play classic rock\, pop and country. \n \n
URL:https://clearviewvineyard.com/event/hip-replacements-14/
CATEGORIES:Music at Clearview
END:VEVENT
END:VCALENDAR