BEGIN:VCALENDAR
VERSION:2.0
PRODID:-//Clearview Vineyard - ECPv4.6.14.1//NONSGML v1.0//EN
CALSCALE:GREGORIAN
METHOD:PUBLISH
X-WR-CALNAME:Clearview Vineyard
X-ORIGINAL-URL:https://clearviewvineyard.com
X-WR-CALDESC:Events for Clearview Vineyard
BEGIN:VEVENT
DTSTART;TZID=America/New_York:20211212T140000
DTEND;TZID=America/New_York:20211212T170000
DTSTAMP:20260421T112456
CREATED:20211025T151753Z
LAST-MODIFIED:20211025T151753Z
UID:32759-1639317600-1639328400@clearviewvineyard.com
SUMMARY:Hip Replacements
DESCRIPTION:Hip Replacements play classic rock and pop. \n \n
URL:https://clearviewvineyard.com/event/hip-replacements-13/
CATEGORIES:Music at Clearview
END:VEVENT
END:VCALENDAR