BEGIN:VCALENDAR
VERSION:2.0
PRODID:-//Clearview Vineyard - ECPv4.6.14.1//NONSGML v1.0//EN
CALSCALE:GREGORIAN
METHOD:PUBLISH
X-WR-CALNAME:Clearview Vineyard
X-ORIGINAL-URL:https://clearviewvineyard.com
X-WR-CALDESC:Events for Clearview Vineyard
BEGIN:VEVENT
DTSTART;TZID=America/New_York:20210516T140000
DTEND;TZID=America/New_York:20210516T170000
DTSTAMP:20260421T084812
CREATED:20210416T170823Z
LAST-MODIFIED:20210416T170823Z
UID:32595-1621173600-1621184400@clearviewvineyard.com
SUMMARY:Hip Replacements
DESCRIPTION:The Hip Replacements play classic rock\, pop and blues. \n \n
URL:https://clearviewvineyard.com/event/hip-replacements-10/
CATEGORIES:Music at Clearview
END:VEVENT
END:VCALENDAR