BEGIN:VCALENDAR
VERSION:2.0
PRODID:-//Clearview Vineyard - ECPv4.6.14.1//NONSGML v1.0//EN
CALSCALE:GREGORIAN
METHOD:PUBLISH
X-WR-CALNAME:Clearview Vineyard
X-ORIGINAL-URL:https://clearviewvineyard.com
X-WR-CALDESC:Events for Clearview Vineyard
BEGIN:VEVENT
DTSTART;TZID=America/New_York:20200718T140000
DTEND;TZID=America/New_York:20200718T170000
DTSTAMP:20260424T232237
CREATED:20200622T192041Z
LAST-MODIFIED:20200630T105346Z
UID:32436-1595080800-1595091600@clearviewvineyard.com
SUMMARY:Henderson's Band
DESCRIPTION:Henderson’s Band plays classic rock\, country and blues. \n \n
URL:https://clearviewvineyard.com/event/hendersons-band/
CATEGORIES:Music at Clearview
END:VEVENT
END:VCALENDAR