BEGIN:VCALENDAR
VERSION:2.0
PRODID:-//Clearview Vineyard - ECPv4.6.14.1//NONSGML v1.0//EN
CALSCALE:GREGORIAN
METHOD:PUBLISH
X-WR-CALNAME:Clearview Vineyard
X-ORIGINAL-URL:https://clearviewvineyard.com
X-WR-CALDESC:Events for Clearview Vineyard
BEGIN:VEVENT
DTSTART;TZID=America/New_York:20220507T140000
DTEND;TZID=America/New_York:20220507T170000
DTSTAMP:20260421T200642
CREATED:20220503T154221Z
LAST-MODIFIED:20220503T154221Z
UID:32795-1651932000-1651942800@clearviewvineyard.com
SUMMARY:Fisher & Kean
DESCRIPTION:Fisher & Kean play classic rock\, pop and country. \n \n
URL:https://clearviewvineyard.com/event/fisher-kean-2/
CATEGORIES:Music at Clearview
END:VEVENT
END:VCALENDAR