BEGIN:VCALENDAR
VERSION:2.0
PRODID:-//Clearview Vineyard - ECPv4.6.14.1//NONSGML v1.0//EN
CALSCALE:GREGORIAN
METHOD:PUBLISH
X-WR-CALNAME:Clearview Vineyard
X-ORIGINAL-URL:https://clearviewvineyard.com
X-WR-CALDESC:Events for Clearview Vineyard
BEGIN:VEVENT
DTSTART;TZID=America/New_York:20161023T140000
DTEND;TZID=America/New_York:20161023T170000
DTSTAMP:20260426T004802
CREATED:20160919T195437Z
LAST-MODIFIED:20161022T162707Z
UID:30874-1477231200-1477242000@clearviewvineyard.com
SUMMARY:Drift Away Duo
DESCRIPTION:Drift Away Duo\nMusic\, Each Saturday & Sunday 2pm-5pm\nEnjoy Live Music on our beautiful wooden porch or in our tasting room from 2-5pm. Enjoy music and wine and sangria by the glass\, $7. Aaron Burr Ciders\, Applewood’s Naked Flock Ciders are available by the glass. Delicious small plates are also available\, including cheese & fruit board\, sliced baguette with mozzarella\, tomato\, basil plus other seasonal selections. \nOur wine tasting is $7 and includes a flight of 6 wines and a souvenir Clearview Vineyard logo 12.75oz wine glass. Read more about our wines here. \n
URL:https://clearviewvineyard.com/event/drift-away-duo/
LOCATION:35 Clearview Lane\, Warwick\, NY\, 10990\, United States
CATEGORIES:Music at Clearview
END:VEVENT
END:VCALENDAR