BEGIN:VCALENDAR
VERSION:2.0
PRODID:-//Clearview Vineyard - ECPv4.6.14.1//NONSGML v1.0//EN
CALSCALE:GREGORIAN
METHOD:PUBLISH
X-WR-CALNAME:Clearview Vineyard
X-ORIGINAL-URL:https://clearviewvineyard.com
X-WR-CALDESC:Events for Clearview Vineyard
BEGIN:VEVENT
DTSTART;TZID=America/New_York:20161217T140000
DTEND;TZID=America/New_York:20161217T170000
DTSTAMP:20260425T180332
CREATED:20161101T105812Z
LAST-MODIFIED:20161101T114730Z
UID:31349-1481983200-1481994000@clearviewvineyard.com
SUMMARY:Drift Away Duo
DESCRIPTION:Drift Away Duo at Clearview Vineyard:  \nMusic\, Each Saturday & Sunday 2pm-5pm \nLive Music on our beautiful wooden porch or in our tasting room\, weather depending\, every weekend from 2-5pm. Enjoy the music with a glass of Clearview Vineyard wine or sangria. We also serve Aaron Burr Ciders\, Applewood’s Naked Flock Ciders\,  Rushing Duck Brewery and Pine Island Brewery Beer and Ale\, available for purchase by the glass. Delicious small plates are also available\, including cheese & fruit board\, sliced baguette with mozzarella\, tomato\, basil plus other seasonal selections. \nConsider doing a wine tasting\, which includes a flight of 6 wines and a souvenir Clearview Vineyard logo 12.75oz wine glass.  Our wine tasting flight is $7. \n
URL:https://clearviewvineyard.com/event/drift-away-duo-2/
LOCATION:35 Clearview Lane\, Warwick\, NY\, 10990\, United States
CATEGORIES:Music at Clearview
END:VEVENT
END:VCALENDAR