BEGIN:VCALENDAR
VERSION:2.0
PRODID:-//Clearview Vineyard - ECPv4.6.14.1//NONSGML v1.0//EN
CALSCALE:GREGORIAN
METHOD:PUBLISH
X-WR-CALNAME:Clearview Vineyard
X-ORIGINAL-URL:https://clearviewvineyard.com
X-WR-CALDESC:Events for Clearview Vineyard
BEGIN:VEVENT
DTSTART;TZID=America/New_York:20180512T140000
DTEND;TZID=America/New_York:20180512T170000
DTSTAMP:20260426T000551
CREATED:20180303T154119Z
LAST-MODIFIED:20180303T154119Z
UID:31940-1526133600-1526144400@clearviewvineyard.com
SUMMARY:Dick Hardy
DESCRIPTION:Dick Hardy plays classic rock and pop. \n \n
URL:https://clearviewvineyard.com/event/dick-hardy-4/
CATEGORIES:Music at Clearview
END:VEVENT
END:VCALENDAR