BEGIN:VCALENDAR
VERSION:2.0
PRODID:-//Clearview Vineyard - ECPv4.6.14.1//NONSGML v1.0//EN
CALSCALE:GREGORIAN
METHOD:PUBLISH
X-WR-CALNAME:Clearview Vineyard
X-ORIGINAL-URL:https://clearviewvineyard.com
X-WR-CALDESC:Events for Clearview Vineyard
BEGIN:VEVENT
DTSTART;TZID=America/New_York:20231209T140000
DTEND;TZID=America/New_York:20231209T170000
DTSTAMP:20260421T183852
CREATED:20231024T003327Z
LAST-MODIFIED:20231024T003327Z
UID:33162-1702130400-1702141200@clearviewvineyard.com
SUMMARY:Debbie Fisher
DESCRIPTION:Debbie Fisher plays classic rock\, pop and country. \n \n
URL:https://clearviewvineyard.com/event/debbie-fisher-5/
CATEGORIES:Music at Clearview
END:VEVENT
END:VCALENDAR